Workbook

Sheet Fakturadresser samt bolag
C2: 1. Välj sökmetod | E2: 2. Sök en adress eller fastighet
E3: Dagskiftet 2 - Elektravägen 20, 22
C6: 1:a hand E-faktura | F6: 2:a hand PDF-faktura | G6: 3:e hand Pappersfaktura | J6: REFERENS/FAKTURAMÄRKNING
C7: VAN-leverantör: InExchange | F7: OBS! En faktura per e-post inkl. ev. bilagor | G7: (i undantagsfall)
C9: Mall för adress EDI-faktura | F9: Mall för adress PDF-faktura | G9: Mall för adress Pappersfaktura
C10: ="GLN: "&I25 -> GLN: 7365566286897 | E10: (Svefaktura-format) | J10: Fastighetsrelaterade kostnader (Se rullista nedan):
C11: ="Peppol-ID: "&J25 -> Peppol-ID: 0007:5566286893 | E11: (Peppol-format) | J11: Bolag: | K11: Fastighetsägande bolag
C12: ="ORGNR "&H25 -> ORGNR 556628-6893 | F12: ="ORGNR "&H25 -> ORGNR 556628-6893 | G12: ="ORGNR "&H25 -> ORGNR 556628-6893 | J12: Er referens:[REFKOD] | K12: Endast siffror! Corems referenser består av 4-6 siffrigt fastighetsnr, som fås av beställaren
J13: Märkning: | K13: Fastighetsnamn eller gatuadress (anges på annan valfri plats på fakturan)
C14: =+G25 -> Corem Dagberget AB | F14: =+G25 -> Corem Dagberget AB | G14: =+G25 -> Corem Dagberget AB
C15: =+$P25 -> Kund-id COR158 | F15: =+$P25 -> Kund-id COR158 | G15: =+$P25 -> Kund-id COR158 | J15: Projektrelaterade kostnader:
C16: =+$Q25 -> Box 5048 | F16: =+$Q25 -> Box 5048 | G16: =+$Q25 -> Box 5048 | J16: Bolag: | K16: Fastighetsägande bolag
C17: =$R25 -> 121 05 Johanneshov | F17: =$R25 -> 121 05 Johanneshov | G17: =$R25 -> 121 05 Johanneshov | J17: Er referens: | K17: Endast siffror! Corems projektnummer består av 4-8 siffror, som fås av beställaren
C19: Er referens: [REFKOD] | F19: Er referens: [REFKOD] | G19: Er referens: [REFKOD] | J19: Märkning: | K19: Projektnamn, fastighetsnamn eller gatuadress (anges på annan valfri plats på fakturan)
C20: =IF(N25="faktura@corem.se",E25,E25) -> 15801 | F20: =IF(N25="faktura@corem.se",E25) -> 15801 | G20: =IF(N25="faktura@corem.se",E25) -> 15801
F21: ="E-postadress: "&N25 -> E-postadress: faktura@corem.se | J21: Vid frågor eller behov av support, kontakta oss på leverantorsreskontra@corem.se
C23: 3. Sökresultat
A24: 1 | B24: {=_xlfn.IFS(A24=1,"Sök[FastAdress]",A24=2,"Sök[AdressFast]")} -> Sök[FastAdress] | C24: FASTIGHET | D24: BOLAGS NR | E24: REFKOD | F24: ADRESS | G24: BOLAG | H24: ORGNR | I24: GLN | J24: PEPPOL-id | K24: Bolagsadress | L24: REGION | M24: KOMMUN | N24: Pdf-epost | P24: Text rad 1 | Q24: Text rad 2 | R24: Text rad 3
A25: {=IF(A24=1,_xlfn._xlws.FILTER(Sök[],Sök[FastAdress]=E3,""),_xlfn._xlws.FILTER(Sök[],Sök[AdressFast]=E3,""))} -> Dagskiftet 2 - Elektravägen 20, 22 | B25: Elektravägen 20, 22 - Dagskiftet 2 | C25: Dagskiftet 2 | D25: 158 | E25: 15801 | F25: Elektravägen 20, 22 | G25: Corem Dagberget AB | H25: 556628-6893 | I25: 7365566286897 | J25: 0007:5566286893 | K25: Box 5048, 121 05 Johanneshov | L25: Stockholm Syd | M25: Stockholm | N25: faktura@corem.se | P25: =IF(N25="faktura@corem.se","Kund-id COR"&D25,"") -> Kund-id COR158 | Q25: =IF(N25="faktura@corem.se","Box 5048","Box 5048") -> Box 5048 | R25: =IF(N25="faktura@corem.se","121 05 Johanneshov","121 05 Johanneshov") -> 121 05 Johanneshov
A26: FastAdress | B26: AdressFast | C26: FASTIGHET | D26: BOLAGS NR | E26: REFKOD | F26: ADRESS | G26: BOLAGSNAMN | H26: ORGNR | I26: GLN | J26: PEPPOL-id | K26: BOLAGSADRESS | L26: REGION | M26: KOMMUN | N26: PDF-epost
A27: =+Sök[[#This Row],[FASTIGHET]]&" - "&Sök[[#This Row],[ADRESS]] -> Dagskiftet 2 - Elektravägen 20, 22 | B27: =+Sök[[#This Row],[ADRESS]]&" - "&Sök[[#This Row],[FASTIGHET]] -> Elektravägen 20, 22 - Dagskiftet 2 | C27: Dagskiftet 2 | D27: 158 | E27: 15801 | F27: Elektravägen 20, 22 | G27: Corem Dagberget AB | H27: 556628-6893 | I27: 7365566286897 | J27: ="0007:" &LEFT('Fakturadresser samt bolag'!$H27,6)&RIGHT('Fakturadresser samt bolag'!$H27,4) -> 0007:5566286893 | K27: Box 5048, 121 05 Johanneshov | L27: Stockholm Syd | M27: Stockholm | N27: faktura@corem.se
A28: =+Sök[[#This Row],[FASTIGHET]]&" - "&Sök[[#This Row],[ADRESS]] -> Säven 4 - Norrköpingsvägen 9 | B28: =+Sök[[#This Row],[ADRESS]]&" - "&Sök[[#This Row],[FASTIGHET]] -> Norrköpingsvägen 9 - Säven 4 | C28: Säven 4 | D28: 3018 | E28: 5453 | F28: Norrköpingsvägen 9 | G28: Corem Säven 4 AB | H28: 559504-3430 | I28: 7365595043430 | J28: ="0007:" &LEFT('Fakturadresser samt bolag'!$H28,6)&RIGHT('Fakturadresser samt bolag'!$H28,4) -> 0007:5595043430 | K28: Box 5048, 121 05 Johanneshov | L28: Öst | M28: Nyköping | N28: faktura@corem.se
A29: =+Sök[[#This Row],[FASTIGHET]]&" - "&Sök[[#This Row],[ADRESS]] -> Bagaren 20 - Ö Storgatan 5, S:t Annegatan 6 | B29: =+Sök[[#This Row],[ADRESS]]&" - "&Sök[[#This Row],[FASTIGHET]] -> Ö Storgatan 5, S:t Annegatan 6 - Bagaren 20 | C29: Bagaren 20 | D29: 981 | E29: 4189 | F29: Ö Storgatan 5, S:t Annegatan 6 | G29: Corem Ett AB | H29: 556610-3106 | I29: 7365566103101 | J29: ="0007:" &LEFT('Fakturadresser samt bolag'!$H29,6)&RIGHT('Fakturadresser samt bolag'!$H29,4) -> 0007:5566103106 | K29: Box 5048, 121 05 Johanneshov | L29: Öst | M29: Nyköping | N29: faktura@corem.se
A30: =+Sök[[#This Row],[FASTIGHET]]&" - "&Sök[[#This Row],[ADRESS]] -> Slänten 1 - Bollmoravägen 123 | B30: =+Sök[[#This Row],[ADRESS]]&" - "&Sök[[#This Row],[FASTIGHET]] -> Bollmoravägen 123 - Slänten 1 | C30: Slänten 1 | D30: 1476 | E30: 147601 | F30: Bollmoravägen 123 | G30: Corem Slänten 1 AB | H30: 559354-2557 | I30: 7365593542553 | J30: ="0007:" &LEFT('Fakturadresser samt bolag'!$H30,6)&RIGHT('Fakturadresser samt bolag'!$H30,4) -> 0007:5593542557 | K30: Box 5048, 121 05 Johanneshov | L30: Stockholm Syd | M30: Tyresö | N30: faktura@corem.se
A31: =+Sök[[#This Row],[FASTIGHET]]&" - "&Sök[[#This Row],[ADRESS]] -> Elektra 20 - Elektravägen 53 | B31: =+Sök[[#This Row],[ADRESS]]&" - "&Sök[[#This Row],[FASTIGHET]] -> Elektravägen 53 - Elektra 20 | C31: Elektra 20 | D31: 1501 | E31: 150101 | F31: Elektravägen 53 | G31: Corem Pylades AB | H31: 556789-2913 | I31: 7365567892912 | J31: ="0007:" &LEFT('Fakturadresser samt bolag'!$H31,6)&RIGHT('Fakturadresser samt bolag'!$H31,4) -> 0007:5567892913 | K31: Box 5048, 121 05 Johanneshov | L31: Stockholm Syd | M31: Stockholm | N31: faktura@corem.se
A32: =+Sök[[#This Row],[FASTIGHET]]&" - "&Sök[[#This Row],[ADRESS]] -> Ringpärmen 6 - Bergkällavägen 36 | B32: =+Sök[[#This Row],[ADRESS]]&" - "&Sök[[#This Row],[FASTIGHET]] -> Bergkällavägen 36 - Ringpärmen 6 | C32: Ringpärmen 6 | D32: 1512 | E32: 151201 | F32: Bergkällavägen 36 | G32: Corem Bredden AB | H32: 556699-5550 | I32: 7365566995553 | J32: ="0007:" &LEFT('Fakturadresser samt bolag'!$H32,6)&RIGHT('Fakturadresser samt bolag'!$H32,4) -> 0007:5566995550 | K32: Box 5048, 121 05 Johanneshov | L32: Stockholm Syd | M32: Sollentuna | N32: faktura@corem.se
A33: =+Sök[[#This Row],[FASTIGHET]]&" - "&Sök[[#This Row],[ADRESS]] -> Elektra 27 - Västberga allé 32 | B33: =+Sök[[#This Row],[ADRESS]]&" - "&Sök[[#This Row],[FASTIGHET]] -> Västberga allé 32 - Elektra 27 | C33: Elektra 27 | D33: 1514 | E33: 151401 | F33: Västberga allé 32 | G33: Corem Elektra 27 AB | H33: 556660-3139 | I33: 7365566603137 | J33: ="0007:" &LEFT('Fakturadresser samt bolag'!$H33,6)&RIGHT('Fakturadresser samt bolag'!$H33,4) -> 0007:5566603139 | K33: Box 5048, 121 05 Johanneshov | L33: Stockholm Syd | M33: Stockholm | N33: faktura@corem.se
A34: =+Sök[[#This Row],[FASTIGHET]]&" - "&Sök[[#This Row],[ADRESS]] -> Märsta 24:11 - Söderbyvägen 12, Pionjärvägen 25 | B34: =+Sök[[#This Row],[ADRESS]]&" - "&Sök[[#This Row],[FASTIGHET]] -> Söderbyvägen 12, Pionjärvägen 25 - Märsta 24:11 | C34: Märsta 24:11 | D34: 1515 | E34: 151501 | F34: Söderbyvägen 12, Pionjärvägen 25 | G34: Corem Svävaren KB | H34: 969698-7552 | I34: 7369696987556 | J34: ="0007:" &LEFT('Fakturadresser samt bolag'!$H34,6)&RIGHT('Fakturadresser samt bolag'!$H34,4) -> 0007:9696987552 | K34: Box 5048, 121 05 Johanneshov | L34: Stockholm Syd | M34: Sigtuna | N34: faktura@corem.se
A35: =+Sök[[#This Row],[FASTIGHET]]&" - "&Sök[[#This Row],[ADRESS]] -> Stensätra 17 - Strömsätravägen 18 | B35: =+Sök[[#This Row],[ADRESS]]&" - "&Sök[[#This Row],[FASTIGHET]] -> Strömsätravägen 18 - Stensätra 17 | C35: Stensätra 17 | D35: 1519 | E35: 151901 | F35: Strömsätravägen 18 | G35: Corem Stensätra 17 AB | H35: 556701-5184 | I35: 7365567015182 | J35: ="0007:" &LEFT('Fakturadresser samt bolag'!$H35,6)&RIGHT('Fakturadresser samt bolag'!$H35,4) -> 0007:5567015184 | K35: Box 5048, 121 05 Johanneshov | L35: Stockholm Syd | M35: Stockholm | N35: faktura@corem.se
A36: =+Sök[[#This Row],[FASTIGHET]]&" - "&Sök[[#This Row],[ADRESS]] -> Lillsätra 1 - Storsätragränd 5 | B36: =+Sök[[#This Row],[ADRESS]]&" - "&Sök[[#This Row],[FASTIGHET]] -> Storsätragränd 5 - Lillsätra 1 | C36: Lillsätra 1 | D36: 1520 | E36: 152002 | F36: Storsätragränd 5 | G36: Corem Lillsätra AB | H36: 556812-4183 | I36: 7365568124180 | J36: ="0007:" &LEFT('Fakturadresser samt bolag'!$H36,6)&RIGHT('Fakturadresser samt bolag'!$H36,4) -> 0007:5568124183 | K36: Box 5048, 121 05 Johanneshov | L36: Stockholm Syd | M36: Stockholm | N36: faktura@corem.se
A37: =+Sök[[#This Row],[FASTIGHET]]&" - "&Sök[[#This Row],[ADRESS]] -> Lillsätra 3 - Storsätragränd 3 | B37: =+Sök[[#This Row],[ADRESS]]&" - "&Sök[[#This Row],[FASTIGHET]] -> Storsätragränd 3 - Lillsätra 3 | C37: Lillsätra 3 | D37: 1520 | E37: 152001 | F37: Storsätragränd 3 | G37: Corem Lillsätra AB | H37: 556812-4183 | I37: 7365568124180 | J37: ="0007:" &LEFT('Fakturadresser samt bolag'!$H37,6)&RIGHT('Fakturadresser samt bolag'!$H37,4) -> 0007:5568124183 | K37: Box 5048, 121 05 Johanneshov | L37: Stockholm Syd | M37: Stockholm | N37: faktura@corem.se
A38: =+Sök[[#This Row],[FASTIGHET]]&" - "&Sök[[#This Row],[ADRESS]] -> Hällsätra 3 - Stensätravägen 5 | B38: =+Sök[[#This Row],[ADRESS]]&" - "&Sök[[#This Row],[FASTIGHET]] -> Stensätravägen 5 - Hällsätra 3 | C38: Hällsätra 3 | D38: 1522 | E38: 152201 | F38: Stensätravägen 5 | G38: Corem Hällsätra AB | H38: 556660-6058 | I38: 7365566606053 | J38: ="0007:" &LEFT('Fakturadresser samt bolag'!$H38,6)&RIGHT('Fakturadresser samt bolag'!$H38,4) -> 0007:5566606058 | K38: Box 5048, 121 05 Johanneshov | L38: Stockholm Syd | M38: Stockholm | N38: faktura@corem.se
... A280: =+Sök[[#This Row],[FASTIGHET]]&" - "&Sök[[#This Row],[ADRESS]] -> Åby projekt - Åby Arenaväg | B280: =+Sök[[#This Row],[ADRESS]]&" - "&Sök[[#This Row],[FASTIGHET]] -> Åby Arenaväg - Åby projekt | C280: Åby projekt | D280: 4068 | E280: 3076 | F280: Åby Arenaväg | G280: Corem Jesper AB | H280: 559101-2165 | I280: 7365591012164 | J280: ="0007:" &LEFT('Fakturadresser samt bolag'!$H280,6)&RIGHT('Fakturadresser samt bolag'!$H280,4) -> 0007:5591012165 | K280: Box 5048, 121 05 Johanneshov | L280: Väst | M280: Mölndal | N280: faktura@corem.se
A281: =+Sök[[#This Row],[FASTIGHET]]&" - "&Sök[[#This Row],[ADRESS]] -> Gemensamt Corem Parkering - Saknas | B281: =+Sök[[#This Row],[ADRESS]]&" - "&Sök[[#This Row],[FASTIGHET]] -> Saknas - Gemensamt Corem Parkering | C281: Gemensamt Corem Parkering | D281: 4080 | E281: 322 | F281: Saknas | G281: Corem Parkering AB | H281: 559208-5442 | I281: 7365592085440 | J281: ="0007:" &LEFT('Fakturadresser samt bolag'!$H281,6)&RIGHT('Fakturadresser samt bolag'!$H281,4) -> 0007:5592085442 | K281: Box 5048, 121 05 Johanneshov | N281: faktura@corem.se
A282: =+Sök[[#This Row],[FASTIGHET]]&" - "&Sök[[#This Row],[ADRESS]] -> Vestalen 8 - Rademachergatan 27 | B282: =+Sök[[#This Row],[ADRESS]]&" - "&Sök[[#This Row],[FASTIGHET]] -> Rademachergatan 27 - Vestalen 8 | C282: Vestalen 8 | D282: 4081 | E282: 6640 | F282: Rademachergatan 27 | G282: Vestalen Fastighets AB | H282: 559205-5528 | I282: 7365592055528 | J282: ="0007:" &LEFT('Fakturadresser samt bolag'!$H282,6)&RIGHT('Fakturadresser samt bolag'!$H282,4) -> 0007:5592055528 | K282: Box 5048, 121 05 Johanneshov | L282: Stockholm Norr | M282: Eskilstuna | N282: faktura@corem.se
A283: =+Sök[[#This Row],[FASTIGHET]]&" - "&Sök[[#This Row],[ADRESS]] -> Gotland Visby S:ta Maria 37 - Visby, Gotland | B283: =+Sök[[#This Row],[ADRESS]]&" - "&Sök[[#This Row],[FASTIGHET]] -> Visby, Gotland - Gotland Visby S:ta Maria 37 | C283: Gotland Visby S:ta Maria 37 | D283: 4082 | E283: 3400 | F283: Visby, Gotland | G283: Corem Visby AB | H283: 556891-8808 | I283: 7365568918802 | J283: ="0007:" &LEFT('Fakturadresser samt bolag'!$H283,6)&RIGHT('Fakturadresser samt bolag'!$H283,4) -> 0007:5568918808 | K283: Box 5048, 121 05 Johanneshov | L283: Stockholm Syd | M283: Visby | N283: faktura@corem.se
A284: =+Sök[[#This Row],[FASTIGHET]]&" - "&Sök[[#This Row],[ADRESS]] -> Sandhagen 8 - Rökerigatan 21 | B284: =+Sök[[#This Row],[ADRESS]]&" - "&Sök[[#This Row],[FASTIGHET]] -> Rökerigatan 21 - Sandhagen 8 | C284: Sandhagen 8 | D284: 4140 | E284: 3394 | F284: Rökerigatan 21 | G284: Corem Sandhagen 8 AB | H284: 559277-7592 | I284: 7365592777598 | J284: ="0007:" &LEFT('Fakturadresser samt bolag'!$H284,6)&RIGHT('Fakturadresser samt bolag'!$H284,4) -> 0007:5592777592 | K284: Box 5048, 121 05 Johanneshov | L284: Stockholm Syd | M284: Johanneshov | N284: faktura@corem.se
A285: =+Sök[[#This Row],[FASTIGHET]]&" - "&Sök[[#This Row],[ADRESS]] -> Stapelbädden 2 - Östra Varvsgatan 2 | B285: =+Sök[[#This Row],[ADRESS]]&" - "&Sök[[#This Row],[FASTIGHET]] -> Östra Varvsgatan 2 - Stapelbädden 2 | C285: Stapelbädden 2 | D285: 4147 | E285: 3380 | F285: Östra Varvsgatan 2 | G285: Corem Stapelbädden AB | H285: 556655-4266 | I285: 7365566554262 | J285: ="0007:" &LEFT('Fakturadresser samt bolag'!$H285,6)&RIGHT('Fakturadresser samt bolag'!$H285,4) -> 0007:5566554266 | K285: Box 5048, 121 05 Johanneshov | L285: Väst | M285: Malmö | N285: faktura@corem.se
A286: =+Sök[[#This Row],[FASTIGHET]]&" - "&Sök[[#This Row],[ADRESS]] -> Stapelbädden 4 - Östra Varvsgatan 4 | B286: =+Sök[[#This Row],[ADRESS]]&" - "&Sök[[#This Row],[FASTIGHET]] -> Östra Varvsgatan 4 - Stapelbädden 4 | C286: Stapelbädden 4 | D286: 4147 | E286: 3386 | F286: Östra Varvsgatan 4 | G286: Corem Stapelbädden AB | H286: 556655-4266 | I286: 7365566554262 | J286: ="0007:" &LEFT('Fakturadresser samt bolag'!$H286,6)&RIGHT('Fakturadresser samt bolag'!$H286,4) -> 0007:5566554266 | K286: Box 5048, 121 05 Johanneshov | L286: Väst | M286: Malmö | N286: faktura@corem.se
A287: =+Sök[[#This Row],[FASTIGHET]]&" - "&Sök[[#This Row],[ADRESS]] -> Lund Sankt Clemens 8 - Stora Södergatan 2 | B287: =+Sök[[#This Row],[ADRESS]]&" - "&Sök[[#This Row],[FASTIGHET]] -> Stora Södergatan 2 - Lund Sankt Clemens 8 | C287: Lund Sankt Clemens 8 | D287: 4148 | E287: 3390 | F287: Stora Södergatan 2 | G287: Corem Clemens AB | H287: 556794-6107 | I287: 7365567946103 | J287: ="0007:" &LEFT('Fakturadresser samt bolag'!$H287,6)&RIGHT('Fakturadresser samt bolag'!$H287,4) -> 0007:5567946107 | K287: Box 5048, 121 05 Johanneshov | L287: Väst | M287: Lund | N287: faktura@corem.se
A288: =+Sök[[#This Row],[FASTIGHET]]&" - "&Sök[[#This Row],[ADRESS]] -> Lund Harven 2 - Traktorvägen 14 | B288: =+Sök[[#This Row],[ADRESS]]&" - "&Sök[[#This Row],[FASTIGHET]] -> Traktorvägen 14 - Lund Harven 2 | C288: Lund Harven 2 | D288: 4150 | E288: 3393 | F288: Traktorvägen 14 | G288: Corem Harven AB | H288: 559291-0904 | I288: 7365592910902 | J288: ="0007:" &LEFT('Fakturadresser samt bolag'!$H288,6)&RIGHT('Fakturadresser samt bolag'!$H288,4) -> 0007:5592910904 | K288: Box 5048, 121 05 Johanneshov | L288: Väst | M288: Lund | N288: faktura@corem.se
A289: =+Sök[[#This Row],[FASTIGHET]]&" - "&Sök[[#This Row],[ADRESS]] -> Ugglum 9:242 - Industrivägen 2, 4, 6, 51, 53, 55, 57 | B289: =+Sök[[#This Row],[ADRESS]]&" - "&Sök[[#This Row],[FASTIGHET]] -> Industrivägen 2, 4, 6, 51, 53, 55, 57 - Ugglum 9:242 | C289: Ugglum 9:242 | D289: 4151 | E289: 3675 | F289: Industrivägen 2, 4, 6, 51, 53, 55, 57 | G289: Corem Pontus AB | H289: 556703-5539 | I289: 7365567035531 | J289: ="0007:" &LEFT('Fakturadresser samt bolag'!$H289,6)&RIGHT('Fakturadresser samt bolag'!$H289,4) -> 0007:5567035539 | K289: Box 5048, 121 05 Johanneshov | L289: Väst | M289: Partille | N289: faktura@corem.se
A290: =+Sök[[#This Row],[FASTIGHET]]&" - "&Sök[[#This Row],[ADRESS]] -> Gemensamt Big Pink - Saknas | B290: =+Sök[[#This Row],[ADRESS]]&" - "&Sök[[#This Row],[FASTIGHET]] -> Saknas - Gemensamt Big Pink | C290: Gemensamt Big Pink | D290: 4152 | E290: 303 | F290: Saknas | G290: Big Pink AB | H290: 556177-1295 | I290: 7365561771299 | J290: ="0007:" &LEFT('Fakturadresser samt bolag'!$H290,6)&RIGHT('Fakturadresser samt bolag'!$H290,4) -> 0007:5561771295 | K290: Box 5048, 121 05 Johanneshov | N290: faktura@corem.se
A291: =+Sök[[#This Row],[FASTIGHET]]&" - "&Sök[[#This Row],[ADRESS]] -> Lagerh Gamlestaden, Göteborg - Saknas | B291: =+Sök[[#This Row],[ADRESS]]&" - "&Sök[[#This Row],[FASTIGHET]] -> Saknas - Lagerh Gamlestaden, Göteborg | C291: Lagerh Gamlestaden, Göteborg | D291: 4152 | E291: 3698 | F291: Saknas | G291: Big Pink AB | H291: 556177-1295 | I291: 7365561771299 | J291: ="0007:" &LEFT('Fakturadresser samt bolag'!$H291,6)&RIGHT('Fakturadresser samt bolag'!$H291,4) -> 0007:5561771295 | K291: Box 5048, 121 05 Johanneshov | L291: Väst | M291: Göteborg | N291: faktura@corem.se
A292: =+Sök[[#This Row],[FASTIGHET]]&" - "&Sök[[#This Row],[ADRESS]] -> Lagerh Kondensat 1, Norrköping - Saknas | B292: =+Sök[[#This Row],[ADRESS]]&" - "&Sök[[#This Row],[FASTIGHET]] -> Saknas - Lagerh Kondensat 1, Norrköping | C292: Lagerh Kondensat 1, Norrköping | D292: 4152 | E292: 8001 | F292: Saknas | G292: Big Pink AB | H292: 556177-1295 | I292: 7365561771299 | J292: ="0007:" &LEFT('Fakturadresser samt bolag'!$H292,6)&RIGHT('Fakturadresser samt bolag'!$H292,4) -> 0007:5561771295 | K292: Box 5048, 121 05 Johanneshov | L292: Öst | M292: Norrköping | N292: faktura@corem.se
A293: =+Sök[[#This Row],[FASTIGHET]]&" - "&Sök[[#This Row],[ADRESS]] -> Lagerh Navbössan 1, Linköping - Saknas | B293: =+Sök[[#This Row],[ADRESS]]&" - "&Sök[[#This Row],[FASTIGHET]] -> Saknas - Lagerh Navbössan 1, Linköping | C293: Lagerh Navbössan 1, Linköping | D293: 4152 | E293: 8004 | F293: Saknas | G293: Big Pink AB | H293: 556177-1295 | I293: 7365561771299 | J293: ="0007:" &LEFT('Fakturadresser samt bolag'!$H293,6)&RIGHT('Fakturadresser samt bolag'!$H293,4) -> 0007:5561771295 | K293: Box 5048, 121 05 Johanneshov | L293: Öst | M293: Linköping | N293: faktura@corem.se
A294: =+Sök[[#This Row],[FASTIGHET]]&" - "&Sök[[#This Row],[ADRESS]] -> Lagerh Sågen 9, Karlstad - Saknas | B294: =+Sök[[#This Row],[ADRESS]]&" - "&Sök[[#This Row],[FASTIGHET]] -> Saknas - Lagerh Sågen 9, Karlstad | C294: Lagerh Sågen 9, Karlstad | D294: 4152 | E294: 8002 | F294: Saknas | G294: Big Pink AB | H294: 556177-1295 | I294: 7365561771299 | J294: ="0007:" &LEFT('Fakturadresser samt bolag'!$H294,6)&RIGHT('Fakturadresser samt bolag'!$H294,4) -> 0007:5561771295 | K294: Box 5048, 121 05 Johanneshov | M294: Karlstad | N294: faktura@corem.se
A295: =+Sök[[#This Row],[FASTIGHET]]&" - "&Sök[[#This Row],[ADRESS]] -> Lagerh Sävenäs 169:1, Göteborg - Saknas | B295: =+Sök[[#This Row],[ADRESS]]&" - "&Sök[[#This Row],[FASTIGHET]] -> Saknas - Lagerh Sävenäs 169:1, Göteborg | C295: Lagerh Sävenäs 169:1, Göteborg | D295: 4152 | E295: 3676 | F295: Saknas | G295: Big Pink AB | H295: 556177-1295 | I295: 7365561771299 | J295: ="0007:" &LEFT('Fakturadresser samt bolag'!$H295,6)&RIGHT('Fakturadresser samt bolag'!$H295,4) -> 0007:5561771295 | K295: Box 5048, 121 05 Johanneshov | L295: Väst | M295: Göteborg | N295: faktura@corem.se
A296: =+Sök[[#This Row],[FASTIGHET]]&" - "&Sök[[#This Row],[ADRESS]] -> Lagerh Tränsbettet 2, Malmö - Saknas | B296: =+Sök[[#This Row],[ADRESS]]&" - "&Sök[[#This Row],[FASTIGHET]] -> Saknas - Lagerh Tränsbettet 2, Malmö | C296: Lagerh Tränsbettet 2, Malmö | D296: 4152 | E296: 8006 | F296: Saknas | G296: Big Pink AB | H296: 556177-1295 | I296: 7365561771299 | J296: ="0007:" &LEFT('Fakturadresser samt bolag'!$H296,6)&RIGHT('Fakturadresser samt bolag'!$H296,4) -> 0007:5561771295 | K296: Box 5048, 121 05 Johanneshov | L296: Väst | M296: Malmö | N296: faktura@corem.se
A297: =+Sök[[#This Row],[FASTIGHET]]&" - "&Sök[[#This Row],[ADRESS]] -> Lagerh Verkstaden 11, Västerås - Saknas | B297: =+Sök[[#This Row],[ADRESS]]&" - "&Sök[[#This Row],[FASTIGHET]] -> Saknas - Lagerh Verkstaden 11, Västerås | C297: Lagerh Verkstaden 11, Västerås | D297: 4152 | E297: 8003 | F297: Saknas | G297: Big Pink AB | H297: 556177-1295 | I297: 7365561771299 | J297: ="0007:" &LEFT('Fakturadresser samt bolag'!$H297,6)&RIGHT('Fakturadresser samt bolag'!$H297,4) -> 0007:5561771295 | K297: Box 5048, 121 05 Johanneshov | L297: Stockholm | M297: Västerås | N297: faktura@corem.se
A298: =+Sök[[#This Row],[FASTIGHET]]&" - "&Sök[[#This Row],[ADRESS]] -> Lagerh Västerbotten 11, Malmö - Saknas | B298: =+Sök[[#This Row],[ADRESS]]&" - "&Sök[[#This Row],[FASTIGHET]] -> Saknas - Lagerh Västerbotten 11, Malmö | C298: Lagerh Västerbotten 11, Malmö | D298: 4152 | E298: 8000 | F298: Saknas | G298: Big Pink AB | H298: 556177-1295 | I298: 7365561771299 | J298: ="0007:" &LEFT('Fakturadresser samt bolag'!$H298,6)&RIGHT('Fakturadresser samt bolag'!$H298,4) -> 0007:5561771295 | K298: Box 5048, 121 05 Johanneshov | L298: Väst | M298: Malmö | N298: faktura@corem.se
A299: =+Sök[[#This Row],[FASTIGHET]]&" - "&Sök[[#This Row],[ADRESS]] -> Sävenäs 170:14 - von utfallsgatan 16 B-C | B299: =+Sök[[#This Row],[ADRESS]]&" - "&Sök[[#This Row],[FASTIGHET]] -> von utfallsgatan 16 B-C - Sävenäs 170:14 | C299: Sävenäs 170:14 | D299: 4153 | E299: 3678 | F299: von utfallsgatan 16 B-C | G299: Corem Penny AB | H299: 556705-0371 | I299: 7365567050374 | J299: ="0007:" &LEFT('Fakturadresser samt bolag'!$H299,6)&RIGHT('Fakturadresser samt bolag'!$H299,4) -> 0007:5567050371 | K299: Box 5048, 121 05 Johanneshov | L299: Väst | M299: Göteborg | N299: faktura@corem.se
A300: =+Sök[[#This Row],[FASTIGHET]]&" - "&Sök[[#This Row],[ADRESS]] -> Ugglum 9:243 - Industrivägen | B300: =+Sök[[#This Row],[ADRESS]]&" - "&Sök[[#This Row],[FASTIGHET]] -> Industrivägen - Ugglum 9:243 | C300: Ugglum 9:243 | D300: 4157 | E300: 3673 | F300: Industrivägen | G300: Corem Polly AB | H300: 556353-5631 | I300: 7365563535639 | J300: ="0007:" &LEFT('Fakturadresser samt bolag'!$H300,6)&RIGHT('Fakturadresser samt bolag'!$H300,4) -> 0007:5563535631 | K300: Box 5048, 121 05 Johanneshov | L300: Väst | M300: Partille | N300: faktura@corem.se
A301: =+Sök[[#This Row],[FASTIGHET]]&" - "&Sök[[#This Row],[ADRESS]] -> Gamlestaden 39:14 - Slakthusgatan 6 | B301: =+Sök[[#This Row],[ADRESS]]&" - "&Sök[[#This Row],[FASTIGHET]] -> Slakthusgatan 6 - Gamlestaden 39:14 | C301: Gamlestaden 39:14 | D301: 4158 | E301: 3697 | F301: Slakthusgatan 6 | G301: Corem Gamlestaden AB | H301: 556674-5674 | I301: 7365566745677 | J301: ="0007:" &LEFT('Fakturadresser samt bolag'!$H301,6)&RIGHT('Fakturadresser samt bolag'!$H301,4) -> 0007:5566745674 | K301: Box 5048, 121 05 Johanneshov | L301: Väst | M301: Göteborg | N301: faktura@corem.se
A302: =+Sök[[#This Row],[FASTIGHET]]&" - "&Sök[[#This Row],[ADRESS]] -> Ugglum 1:76 - Göteborgsvägen 88 | B302: =+Sök[[#This Row],[ADRESS]]&" - "&Sök[[#This Row],[FASTIGHET]] -> Göteborgsvägen 88 - Ugglum 1:76 | C302: Ugglum 1:76 | D302: 4160 | E302: 3686 | F302: Göteborgsvägen 88 | G302: Corem Partille AB | H302: 556878-2477 | I302: 7365568782472 | J302: ="0007:" &LEFT('Fakturadresser samt bolag'!$H302,6)&RIGHT('Fakturadresser samt bolag'!$H302,4) -> 0007:5568782477 | K302: Box 5048, 121 05 Johanneshov | L302: Väst | M302: Partille | N302: faktura@corem.se
A303: =+Sök[[#This Row],[FASTIGHET]]&" - "&Sök[[#This Row],[ADRESS]] -> Samtliga fastigheter - Samtliga fastighetsadresser | B303: =+Sök[[#This Row],[ADRESS]]&" - "&Sök[[#This Row],[FASTIGHET]] -> Samtliga fastighetsadresser - Samtliga fastigheter | C303: Samtliga fastigheter | D303: 4161 | E303: Projektnr | F303: Samtliga fastighetsadresser | G303: Corem Projektutveckling AB | H303: 556636-3411 | I303: 7365566363413 | J303: ="0007:" &LEFT('Fakturadresser samt bolag'!$H303,6)&RIGHT('Fakturadresser samt bolag'!$H303,4) -> 0007:5566363411 | K303: Box 5048, 121 05 Johanneshov | L303: Samtliga regioner | M303: Samtliga kommuner | N303: faktura@corem.se
A304: =+Sök[[#This Row],[FASTIGHET]]&" - "&Sök[[#This Row],[ADRESS]] -> Sävenäs 67:4 - Torpavallsgatan 11-13 | B304: =+Sök[[#This Row],[ADRESS]]&" - "&Sök[[#This Row],[FASTIGHET]] -> Torpavallsgatan 11-13 - Sävenäs 67:4 | C304: Sävenäs 67:4 | D304: 4163 | E304: 3941 | F304: Torpavallsgatan 11-13 | G304: Corem Torpavallsgatan AB | H304: 559003-9441 | I304: 7365590039445 | J304: ="0007:" &LEFT('Fakturadresser samt bolag'!$H304,6)&RIGHT('Fakturadresser samt bolag'!$H304,4) -> 0007:5590039441 | K304: Box 5048, 121 05 Johanneshov | L304: Väst | M304: Göteborg | N304: faktura@corem.se
A305: =+Sök[[#This Row],[FASTIGHET]]&" - "&Sök[[#This Row],[ADRESS]] -> Majorna 223:5 - Fiskehamnen 11 | B305: =+Sök[[#This Row],[ADRESS]]&" - "&Sök[[#This Row],[FASTIGHET]] -> Fiskehamnen 11 - Majorna 223:5 | C305: Majorna 223:5 | D305: 4165 | E305: 3687 | F305: Fiskehamnen 11 | G305: Corem Belone KB | H305: 916563-3273 | I305: 7369165633274 | J305: ="0007:" &LEFT('Fakturadresser samt bolag'!$H305,6)&RIGHT('Fakturadresser samt bolag'!$H305,4) -> 0007:9165633273 | K305: Box 5048, 121 05 Johanneshov | L305: Väst | M305: Göteborg | N305: faktura@corem.se
A306: =+Sök[[#This Row],[FASTIGHET]]&" - "&Sök[[#This Row],[ADRESS]] -> Västerbotten 9 - Ystadsvägen 15, 17, 19, Fosievägen 2 | B306: =+Sök[[#This Row],[ADRESS]]&" - "&Sök[[#This Row],[FASTIGHET]] -> Ystadsvägen 15, 17, 19, Fosievägen 2 - Västerbotten 9 | C306: Västerbotten 9 | D306: 4171 | E306: 3920 | F306: Ystadsvägen 15, 17, 19, Fosievägen 2 | G306: Corem Rune AB | H306: 556394-2746 | I306: 7365563942741 | J306: ="0007:" &LEFT('Fakturadresser samt bolag'!$H306,6)&RIGHT('Fakturadresser samt bolag'!$H306,4) -> 0007:5563942746 | K306: Box 5048, 121 05 Johanneshov | L306: Väst | M306: Malmö | N306: faktura@corem.se
A307: =+Sök[[#This Row],[FASTIGHET]]&" - "&Sök[[#This Row],[ADRESS]] -> Västerbotten 11 - Estlandsgatan 2, 4, 6, Fosievägen 4, 6, 8 | B307: =+Sök[[#This Row],[ADRESS]]&" - "&Sök[[#This Row],[FASTIGHET]] -> Estlandsgatan 2, 4, 6, Fosievägen 4, 6, 8 - Västerbotten 11 | C307: Västerbotten 11 | D307: 4173 | E307: 3926 | F307: Estlandsgatan 2, 4, 6, Fosievägen 4, 6, 8 | G307: Corem Rose AB | H307: 556609-2143 | I307: 7365566092146 | J307: ="0007:" &LEFT('Fakturadresser samt bolag'!$H307,6)&RIGHT('Fakturadresser samt bolag'!$H307,4) -> 0007:5566092143 | K307: Box 5048, 121 05 Johanneshov | L307: Väst | M307: Malmö | N307: faktura@corem.se
A308: =+Sök[[#This Row],[FASTIGHET]]&" - "&Sök[[#This Row],[ADRESS]] -> Sävenäs 170:12 & 170:17 - von Utfallsgatan 18 | B308: =+Sök[[#This Row],[ADRESS]]&" - "&Sök[[#This Row],[FASTIGHET]] -> von Utfallsgatan 18 - Sävenäs 170:12 & 170:17 | C308: Sävenäs 170:12 & 170:17 | D308: 4175 | E308: 7530 | F308: von Utfallsgatan 18 | G308: Corem Sävenäs AB | H308: 556987-7052 | I308: 7365569877054 | J308: ="0007:" &LEFT('Fakturadresser samt bolag'!$H308,6)&RIGHT('Fakturadresser samt bolag'!$H308,4) -> 0007:5569877052 | K308: Box 5048, 121 05 Johanneshov | L308: Väst | M308: Göteborg | N308: faktura@corem.se
A309: =+Sök[[#This Row],[FASTIGHET]]&" - "&Sök[[#This Row],[ADRESS]] -> Mellby 3:198 - Mellbyvägen 21-23 | B309: =+Sök[[#This Row],[ADRESS]]&" - "&Sök[[#This Row],[FASTIGHET]] -> Mellbyvägen 21-23 - Mellby 3:198 | C309: Mellby 3:198 | D309: 4177 | E309: 3929 | F309: Mellbyvägen 21-23 | G309: Corem Mellbyvägen AB | H309: 556755-4281 | I309: 7365567554285 | J309: ="0007:" &LEFT('Fakturadresser samt bolag'!$H309,6)&RIGHT('Fakturadresser samt bolag'!$H309,4) -> 0007:5567554281 | K309: Box 5048, 121 05 Johanneshov | L309: Väst | M309: Partille | N309: faktura@corem.se
A310: =+Sök[[#This Row],[FASTIGHET]]&" - "&Sök[[#This Row],[ADRESS]] -> Kobbegården 6:141, 6:168 - Datavägen 6 | B310: =+Sök[[#This Row],[ADRESS]]&" - "&Sök[[#This Row],[FASTIGHET]] -> Datavägen 6 - Kobbegården 6:141, 6:168 | C310: Kobbegården 6:141, 6:168 | D310: 4182 | E310: 3931 | F310: Datavägen 6 | G310: Corem Blåkobbe AB | H310: 559096-6205 | I310: 7365590966208 | J310: ="0007:" &LEFT('Fakturadresser samt bolag'!$H310,6)&RIGHT('Fakturadresser samt bolag'!$H310,4) -> 0007:5590966205 | K310: Box 5048, 121 05 Johanneshov | L310: Väst | M310: Göteborg | N310: faktura@corem.se
A311: =+Sök[[#This Row],[FASTIGHET]]&" - "&Sök[[#This Row],[ADRESS]] -> Mejramen 1 - Kongegårdsgatan 5, Lunnagårdsgatan 4 | B311: =+Sök[[#This Row],[ADRESS]]&" - "&Sök[[#This Row],[FASTIGHET]] -> Kongegårdsgatan 5, Lunnagårdsgatan 4 - Mejramen 1 | C311: Mejramen 1 | D311: 4183 | E311: 3932 | F311: Kongegårdsgatan 5, Lunnagårdsgatan 4 | G311: Corem Rosmarinen HB | H311: 969652-5121 | I311: 7369696525123 | J311: ="0007:" &LEFT('Fakturadresser samt bolag'!$H311,6)&RIGHT('Fakturadresser samt bolag'!$H311,4) -> 0007:9696525121 | K311: Box 5048, 121 05 Johanneshov | L311: Väst | M311: Mölndal | N311: faktura@corem.se
A312: =+Sök[[#This Row],[FASTIGHET]]&" - "&Sök[[#This Row],[ADRESS]] -> Ängsviolen 1 - Flöjelbergsgatan 18 | B312: =+Sök[[#This Row],[ADRESS]]&" - "&Sök[[#This Row],[FASTIGHET]] -> Flöjelbergsgatan 18 - Ängsviolen 1 | C312: Ängsviolen 1 | D312: 4185 | E312: 3935 | F312: Flöjelbergsgatan 18 | G312: Corem Vilde AB | H312: 559096-7732 | I312: 7365590967731 | J312: ="0007:" &LEFT('Fakturadresser samt bolag'!$H312,6)&RIGHT('Fakturadresser samt bolag'!$H312,4) -> 0007:5590967732 | K312: Box 5048, 121 05 Johanneshov | L312: Väst | M312: Mölndal | N312: faktura@corem.se
A313: =+Sök[[#This Row],[FASTIGHET]]&" - "&Sök[[#This Row],[ADRESS]] -> Ugglum 8:37 - Göteborgsvägen 78-84 | B313: =+Sök[[#This Row],[ADRESS]]&" - "&Sök[[#This Row],[FASTIGHET]] -> Göteborgsvägen 78-84 - Ugglum 8:37 | C313: Ugglum 8:37 | D313: 4187 | E313: 3938 | F313: Göteborgsvägen 78-84 | G313: Corem Vera AB | H313: 556855-6731 | I313: 7365568556738 | J313: ="0007:" &LEFT('Fakturadresser samt bolag'!$H313,6)&RIGHT('Fakturadresser samt bolag'!$H313,4) -> 0007:5568556731 | K313: Box 5048, 121 05 Johanneshov | L313: Väst | M313: Partille | N313: faktura@corem.se
A314: =+Sök[[#This Row],[FASTIGHET]]&" - "&Sök[[#This Row],[ADRESS]] -> Ugglum 8:92 - Göteborgsvägen 74-76, Tillfällavägen 17-21 | B314: =+Sök[[#This Row],[ADRESS]]&" - "&Sök[[#This Row],[FASTIGHET]] -> Göteborgsvägen 74-76, Tillfällavägen 17-21 - Ugglum 8:92 | C314: Ugglum 8:92 | D314: 4188 | E314: 3939 | F314: Göteborgsvägen 74-76, Tillfällavägen 17-21 | G314: Corem Viggo AB | H314: 556855-6749 | I314: 7365568556745 | J314: ="0007:" &LEFT('Fakturadresser samt bolag'!$H314,6)&RIGHT('Fakturadresser samt bolag'!$H314,4) -> 0007:5568556749 | K314: Box 5048, 121 05 Johanneshov | L314: Väst | M314: Partille | N314: faktura@corem.se
A315: =+Sök[[#This Row],[FASTIGHET]]&" - "&Sök[[#This Row],[ADRESS]] -> Travbanan 3 - Åby Arenavägen 10 | B315: =+Sök[[#This Row],[ADRESS]]&" - "&Sök[[#This Row],[FASTIGHET]] -> Åby Arenavägen 10 - Travbanan 3 | C315: Travbanan 3 | D315: 4192 | E315: 3943 | F315: Åby Arenavägen 10 | G315: Åby Arena Mässa AB | H315: 559105-2229 | I315: 7365591052221 | J315: ="0007:" &LEFT('Fakturadresser samt bolag'!$H315,6)&RIGHT('Fakturadresser samt bolag'!$H315,4) -> 0007:5591052229 | K315: Box 5048, 121 05 Johanneshov | L315: Väst | M315: Mölndal | N315: faktura@corem.se
... A342: =+Sök[[#This Row],[FASTIGHET]]&" - "&Sök[[#This Row],[ADRESS]] -> Märsta 21:42 - Söderbyvägen 3 | B342: =+Sök[[#This Row],[ADRESS]]&" - "&Sök[[#This Row],[FASTIGHET]] -> Söderbyvägen 3 - Märsta 21:42 | C342: Märsta 21:42 | D342: 7150 | E342: 715001 | F342: Söderbyvägen 3 | G342: Corem Luftbron AB | H342: 556269-2367 | I342: 7365562692364 | J342: ="0007:" &LEFT('Fakturadresser samt bolag'!$H342,6)&RIGHT('Fakturadresser samt bolag'!$H342,4) -> 0007:5562692367 | K342: Box 5048, 121 05 Johanneshov | L342: Stockholm Syd | M342: Sigtuna | N342: faktura@corem.se
A343: =+Sök[[#This Row],[FASTIGHET]]&" - "&Sök[[#This Row],[ADRESS]] -> Solna Gate - | B343: =+Sök[[#This Row],[ADRESS]]&" - "&Sök[[#This Row],[FASTIGHET]] -> - Solna Gate | C343: Solna Gate | D343: 4078 | E343: 6800 | G343: Corem Meetings AB | H343: 559208-5426 | I343: 7365592085426 | J343: ="0007:" &LEFT('Fakturadresser samt bolag'!$H343,6)&RIGHT('Fakturadresser samt bolag'!$H343,4) -> 0007:5592085426 | K343: Box 5048, 121 05 Johanneshov | L343: Stockholm Norr | M343: Solna | N343: faktura@corem.se
A344: =+Sök[[#This Row],[FASTIGHET]]&" - "&Sök[[#This Row],[ADRESS]] -> Kista Gate - | B344: =+Sök[[#This Row],[ADRESS]]&" - "&Sök[[#This Row],[FASTIGHET]] -> - Kista Gate | C344: Kista Gate | D344: 4078 | E344: 6801 | G344: Corem Meetings AB | H344: 559208-5426 | I344: 7365592085426 | J344: ="0007:" &LEFT('Fakturadresser samt bolag'!$H344,6)&RIGHT('Fakturadresser samt bolag'!$H344,4) -> 0007:5592085426 | K344: Box 5048, 121 05 Johanneshov | L344: Stockholm Norr | M344: Kista | N344: faktura@corem.se
A345: =+Sök[[#This Row],[FASTIGHET]]&" - "&Sök[[#This Row],[ADRESS]] -> Solna Hilton - | B345: =+Sök[[#This Row],[ADRESS]]&" - "&Sök[[#This Row],[FASTIGHET]] -> - Solna Hilton | C345: Solna Hilton | D345: 4078 | E345: 6802 | G345: Corem Meetings AB | H345: 559208-5426 | I345: 7365592085426 | J345: ="0007:" &LEFT('Fakturadresser samt bolag'!$H345,6)&RIGHT('Fakturadresser samt bolag'!$H345,4) -> 0007:5592085426 | K345: Box 5048, 121 05 Johanneshov | L345: Stockholm Norr | M345: Solna | N345: faktura@corem.se
A346: =+Sök[[#This Row],[FASTIGHET]]&" - "&Sök[[#This Row],[ADRESS]] -> Mejramen - | B346: =+Sök[[#This Row],[ADRESS]]&" - "&Sök[[#This Row],[FASTIGHET]] -> - Mejramen | C346: Mejramen | D346: 4078 | E346: 6804 | G346: Corem Meetings AB | H346: 559208-5426 | I346: 7365592085426 | J346: ="0007:" &LEFT('Fakturadresser samt bolag'!$H346,6)&RIGHT('Fakturadresser samt bolag'!$H346,4) -> 0007:5592085426 | K346: Box 5048, 121 05 Johanneshov | L346: Väst | M346: Mölndal | N346: faktura@corem.se
A347: =+Sök[[#This Row],[FASTIGHET]]&" - "&Sök[[#This Row],[ADRESS]] -> UBP - | B347: =+Sök[[#This Row],[ADRESS]]&" - "&Sök[[#This Row],[FASTIGHET]] -> - UBP | C347: UBP | D347: 4078 | E347: 6805 | G347: Corem Meetings AB | H347: 559208-5426 | I347: 7365592085426 | J347: ="0007:" &LEFT('Fakturadresser samt bolag'!$H347,6)&RIGHT('Fakturadresser samt bolag'!$H347,4) -> 0007:5592085426 | K347: Box 5048, 121 05 Johanneshov | L347: Stockholm Norr | M347: Uppsala | N347: faktura@corem.se
A348: =+Sök[[#This Row],[FASTIGHET]]&" - "&Sök[[#This Row],[ADRESS]] -> Time Building - | B348: =+Sök[[#This Row],[ADRESS]]&" - "&Sök[[#This Row],[FASTIGHET]] -> - Time Building | C348: Time Building | D348: 4078 | E348: 6806 | G348: Corem Meetings AB | H348: 559208-5426 | I348: 7365592085426 | J348: ="0007:" &LEFT('Fakturadresser samt bolag'!$H348,6)&RIGHT('Fakturadresser samt bolag'!$H348,4) -> 0007:5592085426 | K348: Box 5048, 121 05 Johanneshov | L348: Stockholm Norr | M348: Kista | N348: faktura@corem.se
A349: =+Sök[[#This Row],[FASTIGHET]]&" - "&Sök[[#This Row],[ADRESS]] -> Malten - | B349: =+Sök[[#This Row],[ADRESS]]&" - "&Sök[[#This Row],[FASTIGHET]] -> - Malten | C349: Malten | D349: 4078 | E349: 6807 | G349: Corem Meetings AB | H349: 559208-5426 | I349: 7365592085426 | J349: ="0007:" &LEFT('Fakturadresser samt bolag'!$H349,6)&RIGHT('Fakturadresser samt bolag'!$H349,4) -> 0007:5592085426 | K349: Box 5048, 121 05 Johanneshov | L349: Stockholm Norr | M349: Kista | N349: faktura@corem.se
A350: =+Sök[[#This Row],[FASTIGHET]]&" - "&Sök[[#This Row],[ADRESS]] -> Padelhall Åby (k-ställe) - Åby | B350: =+Sök[[#This Row],[ADRESS]]&" - "&Sök[[#This Row],[FASTIGHET]] -> Åby - Padelhall Åby (k-ställe) | C350: Padelhall Åby (k-ställe) | D350: 4089 | E350: 4152 | F350: Åby | G350: Kista och Åby Padel AB | H350: 559477-0546 | I350: 7365594770542 | J350: ="0007:" &LEFT('Fakturadresser samt bolag'!$H350,6)&RIGHT('Fakturadresser samt bolag'!$H350,4) -> 0007:5594770546 | K350: Box 5048, 121 05 Johanneshov | L350: Väst | M350: Mölndal | N350: faktura@corem.se
A351: =+Sök[[#This Row],[FASTIGHET]]&" - "&Sök[[#This Row],[ADRESS]] -> Borgarfjord 4 Time Building Sthlm Norra - Kontorshotell: Kistagången 12 | B351: =+Sök[[#This Row],[ADRESS]]&" - "&Sök[[#This Row],[FASTIGHET]] -> Kontorshotell: Kistagången 12 - Borgarfjord 4 Time Building Sthlm Norra | C351: Borgarfjord 4 Time Building Sthlm Norra | D351: 4040 | E351: 6013 | F351: Kontorshotell: Kistagången 12 | G351: First Office AB | H351: 556835-9870 | I351: 7365568359872 | J351: ="0007:" &LEFT('Fakturadresser samt bolag'!$H351,6)&RIGHT('Fakturadresser samt bolag'!$H351,4) -> 0007:5568359870 | K351: Box 5048, 121 05 Johanneshov | L351: Stockholm Norr | M351: Kista | N351: faktura@corem.se
