Workbook

Sheet Fakturadresser samt bolag
C2: 1. Välj sökmetod | E2: 2. Sök en adress eller fastighet
E3: Dagskiftet 2 - Elektravägen 20, 22
C6: 1:a hand E-faktura | F6: 2:a hand PDF-faktura | G6: 3:e hand Pappersfaktura | J6: REFERENS/FAKTURAMÄRKNING
C7: VAN-leverantör: InExchange | F7: OBS! En faktura per e-post inkl. ev. bilagor | G7: (i undantagsfall)
C9: Mall för adress EDI-faktura | F9: Mall för adress PDF-faktura | G9: Mall för adress Pappersfaktura
C10: ="GLN: "&I25 -> GLN: 7365566286897 | E10: (Svefaktura-format) | J10: Fastighetsrelaterade kostnader (Se rullista nedan):
C11: ="Peppol-ID: "&J25 -> Peppol-ID: 0007:5566286893 | E11: (Peppol-format) | J11: Bolag: | K11: Fastighetsägande bolag
C12: ="ORGNR "&H25 -> ORGNR 556628-6893 | F12: ="ORGNR "&H25 -> ORGNR 556628-6893 | G12: ="ORGNR "&H25 -> ORGNR 556628-6893 | J12: Er referens:[REFKOD] | K12: Endast siffror! Corems referenser består av 4-6 siffrigt fastighetsnr, som fås av beställaren
J13: Märkning: | K13: Fastighetsnamn eller gatuadress (anges på annan valfri plats på fakturan)
C14: =+G25 -> Corem Dagberget AB | F14: =+G25 -> Corem Dagberget AB | G14: =+G25 -> Corem Dagberget AB
C15: =+$P25 -> Kund-id COR158 | F15: =+$P25 -> Kund-id COR158 | G15: =+$P25 -> Kund-id COR158 | J15: Projektrelaterade kostnader:
C16: =+$Q25 -> Box 5048 | F16: =+$Q25 -> Box 5048 | G16: =+$Q25 -> Box 5048 | J16: Bolag: | K16: Fastighetsägande bolag
C17: =$R25 -> 121 05 Johanneshov | F17: =$R25 -> 121 05 Johanneshov | G17: =$R25 -> 121 05 Johanneshov | J17: Er referens: | K17: Endast siffror! Corems projektnummer består av 4-8 siffror, som fås av beställaren
C19: Er referens: [REFKOD] | F19: Er referens: [REFKOD] | G19: Er referens: [REFKOD] | J19: Märkning: | K19: Projektnamn, fastighetsnamn eller gatuadress (anges på annan valfri plats på fakturan)
C20: =IF(N25="faktura@corem.se",E25,E25) -> 15801 | F20: =IF(N25="faktura@corem.se",E25) -> 15801 | G20: =IF(N25="faktura@corem.se",E25) -> 15801
F21: ="E-postadress: "&N25 -> E-postadress: faktura@corem.se | J21: Vid frågor eller behov av support, kontakta oss på leverantorsreskontra@corem.se
C23: 3. Sökresultat
A24: 1 | B24: {=_xlfn.IFS(A24=1,"Sök[FastAdress]",A24=2,"Sök[AdressFast]")} -> Sök[FastAdress] | C24: FASTIGHET | D24: BOLAGS NR | E24: REFKOD | F24: ADRESS | G24: BOLAG | H24: ORGNR | I24: GLN | J24: PEPPOL-id | K24: Bolagsadress | L24: REGION | M24: KOMMUN | N24: Pdf-epost | P24: Text rad 1 | Q24: Text rad 2 | R24: Text rad 3
A25: {=IF(A24=1,_xlfn._xlws.FILTER(Sök[],Sök[FastAdress]=E3,""),_xlfn._xlws.FILTER(Sök[],Sök[AdressFast]=E3,""))} -> Dagskiftet 2 - Elektravägen 20, 22 | B25: Elektravägen 20, 22 - Dagskiftet 2 | C25: Dagskiftet 2 | D25: 158 | E25: 15801 | F25: Elektravägen 20, 22 | G25: Corem Dagberget AB | H25: 556628-6893 | I25: 7365566286897 | J25: 0007:5566286893 | K25: Box 5048, 121 05 Johanneshov | L25: Stockholm Syd | M25: Stockholm | N25: faktura@corem.se | P25: =IF(N25="faktura@corem.se","Kund-id COR"&D25,"") -> Kund-id COR158 | Q25: =IF(N25="faktura@corem.se","Box 5048","Box 5048") -> Box 5048 | R25: =IF(N25="faktura@corem.se","121 05 Johanneshov","121 05 Johanneshov") -> 121 05 Johanneshov
A26: FastAdress | B26: AdressFast | C26: FASTIGHET | D26: BOLAGS NR | E26: REFKOD | F26: ADRESS | G26: BOLAGSNAMN | H26: ORGNR | I26: GLN | J26: PEPPOL-id | K26: BOLAGSADRESS | L26: REGION | M26: KOMMUN | N26: PDF-epost
A27: =+Sök[[#This Row],[FASTIGHET]]&" - "&Sök[[#This Row],[ADRESS]] -> Dagskiftet 2 - Elektravägen 20, 22 | B27: =+Sök[[#This Row],[ADRESS]]&" - "&Sök[[#This Row],[FASTIGHET]] -> Elektravägen 20, 22 - Dagskiftet 2 | C27: Dagskiftet 2 | D27: 158 | E27: 15801 | F27: Elektravägen 20, 22 | G27: Corem Dagberget AB | H27: 556628-6893 | I27: 7365566286897 | J27: ="0007:" &LEFT('Fakturadresser samt bolag'!$H27,6)&RIGHT('Fakturadresser samt bolag'!$H27,4) -> 0007:5566286893 | K27: Box 5048, 121 05 Johanneshov | L27: Stockholm Syd | M27: Stockholm | N27: faktura@corem.se
A28: =+Sök[[#This Row],[FASTIGHET]]&" - "&Sök[[#This Row],[ADRESS]] -> Säven 4 - Norrköpingsvägen 9 | B28: =+Sök[[#This Row],[ADRESS]]&" - "&Sök[[#This Row],[FASTIGHET]] -> Norrköpingsvägen 9 - Säven 4 | C28: Säven 4 | D28: 3018 | E28: 5453 | F28: Norrköpingsvägen 9 | G28: Corem Säven 4 AB | H28: 559504-3430 | I28: 7365595043430 | J28: ="0007:" &LEFT('Fakturadresser samt bolag'!$H28,6)&RIGHT('Fakturadresser samt bolag'!$H28,4) -> 0007:5595043430 | K28: Box 5048, 121 05 Johanneshov | L28: Öst | M28: Nyköping | N28: faktura@corem.se
A29: =+Sök[[#This Row],[FASTIGHET]]&" - "&Sök[[#This Row],[ADRESS]] -> Bagaren 20 - Ö Storgatan 5, S:t Annegatan 6 | B29: =+Sök[[#This Row],[ADRESS]]&" - "&Sök[[#This Row],[FASTIGHET]] -> Ö Storgatan 5, S:t Annegatan 6 - Bagaren 20 | C29: Bagaren 20 | D29: 981 | E29: 4189 | F29: Ö Storgatan 5, S:t Annegatan 6 | G29: Corem Ett AB | H29: 556610-3106 | I29: 7365566103101 | J29: ="0007:" &LEFT('Fakturadresser samt bolag'!$H29,6)&RIGHT('Fakturadresser samt bolag'!$H29,4) -> 0007:5566103106 | K29: Box 5048, 121 05 Johanneshov | L29: Öst | M29: Nyköping | N29: faktura@corem.se
A30: =+Sök[[#This Row],[FASTIGHET]]&" - "&Sök[[#This Row],[ADRESS]] -> Slänten 1 - Bollmoravägen 123 | B30: =+Sök[[#This Row],[ADRESS]]&" - "&Sök[[#This Row],[FASTIGHET]] -> Bollmoravägen 123 - Slänten 1 | C30: Slänten 1 | D30: 1476 | E30: 147601 | F30: Bollmoravägen 123 | G30: Corem Slänten 1 AB | H30: 559354-2557 | I30: 7365593542553 | J30: ="0007:" &LEFT('Fakturadresser samt bolag'!$H30,6)&RIGHT('Fakturadresser samt bolag'!$H30,4) -> 0007:5593542557 | K30: Box 5048, 121 05 Johanneshov | L30: Stockholm Syd | M30: Tyresö | N30: faktura@corem.se
A31: =+Sök[[#This Row],[FASTIGHET]]&" - "&Sök[[#This Row],[ADRESS]] -> Elektra 20 - Elektravägen 53 | B31: =+Sök[[#This Row],[ADRESS]]&" - "&Sök[[#This Row],[FASTIGHET]] -> Elektravägen 53 - Elektra 20 | C31: Elektra 20 | D31: 1501 | E31: 150101 | F31: Elektravägen 53 | G31: Corem Pylades AB | H31: 556789-2913 | I31: 7365567892912 | J31: ="0007:" &LEFT('Fakturadresser samt bolag'!$H31,6)&RIGHT('Fakturadresser samt bolag'!$H31,4) -> 0007:5567892913 | K31: Box 5048, 121 05 Johanneshov | L31: Stockholm Syd | M31: Stockholm | N31: faktura@corem.se
A32: =+Sök[[#This Row],[FASTIGHET]]&" - "&Sök[[#This Row],[ADRESS]] -> Ringpärmen 6 - Bergkällavägen 36 | B32: =+Sök[[#This Row],[ADRESS]]&" - "&Sök[[#This Row],[FASTIGHET]] -> Bergkällavägen 36 - Ringpärmen 6 | C32: Ringpärmen 6 | D32: 1512 | E32: 151201 | F32: Bergkällavägen 36 | G32: Corem Bredden AB | H32: 556699-5550 | I32: 7365566995553 | J32: ="0007:" &LEFT('Fakturadresser samt bolag'!$H32,6)&RIGHT('Fakturadresser samt bolag'!$H32,4) -> 0007:5566995550 | K32: Box 5048, 121 05 Johanneshov | L32: Stockholm Syd | M32: Sollentuna | N32: faktura@corem.se
A33: =+Sök[[#This Row],[FASTIGHET]]&" - "&Sök[[#This Row],[ADRESS]] -> Elektra 27 - Västberga allé 32 | B33: =+Sök[[#This Row],[ADRESS]]&" - "&Sök[[#This Row],[FASTIGHET]] -> Västberga allé 32 - Elektra 27 | C33: Elektra 27 | D33: 1514 | E33: 151401 | F33: Västberga allé 32 | G33: Corem Elektra 27 AB | H33: 556660-3139 | I33: 7365566603137 | J33: ="0007:" &LEFT('Fakturadresser samt bolag'!$H33,6)&RIGHT('Fakturadresser samt bolag'!$H33,4) -> 0007:5566603139 | K33: Box 5048, 121 05 Johanneshov | L33: Stockholm Syd | M33: Stockholm | N33: faktura@corem.se
A34: =+Sök[[#This Row],[FASTIGHET]]&" - "&Sök[[#This Row],[ADRESS]] -> Märsta 24:11 - Söderbyvägen 12, Pionjärvägen 25 | B34: =+Sök[[#This Row],[ADRESS]]&" - "&Sök[[#This Row],[FASTIGHET]] -> Söderbyvägen 12, Pionjärvägen 25 - Märsta 24:11 | C34: Märsta 24:11 | D34: 1515 | E34: 151501 | F34: Söderbyvägen 12, Pionjärvägen 25 | G34: Corem Svävaren KB | H34: 969698-7552 | I34: 7369696987556 | J34: ="0007:" &LEFT('Fakturadresser samt bolag'!$H34,6)&RIGHT('Fakturadresser samt bolag'!$H34,4) -> 0007:9696987552 | K34: Box 5048, 121 05 Johanneshov | L34: Stockholm Syd | M34: Sigtuna | N34: faktura@corem.se
A35: =+Sök[[#This Row],[FASTIGHET]]&" - "&Sök[[#This Row],[ADRESS]] -> Stensätra 17 - Strömsätravägen 18 | B35: =+Sök[[#This Row],[ADRESS]]&" - "&Sök[[#This Row],[FASTIGHET]] -> Strömsätravägen 18 - Stensätra 17 | C35: Stensätra 17 | D35: 1519 | E35: 151901 | F35: Strömsätravägen 18 | G35: Corem Stensätra 17 AB | H35: 556701-5184 | I35: 7365567015182 | J35: ="0007:" &LEFT('Fakturadresser samt bolag'!$H35,6)&RIGHT('Fakturadresser samt bolag'!$H35,4) -> 0007:5567015184 | K35: Box 5048, 121 05 Johanneshov | L35: Stockholm Syd | M35: Stockholm | N35: faktura@corem.se
A36: =+Sök[[#This Row],[FASTIGHET]]&" - "&Sök[[#This Row],[ADRESS]] -> Lillsätra 1 - Storsätragränd 5 | B36: =+Sök[[#This Row],[ADRESS]]&" - "&Sök[[#This Row],[FASTIGHET]] -> Storsätragränd 5 - Lillsätra 1 | C36: Lillsätra 1 | D36: 1520 | E36: 152002 | F36: Storsätragränd 5 | G36: Corem Lillsätra AB | H36: 556812-4183 | I36: 7365568124180 | J36: ="0007:" &LEFT('Fakturadresser samt bolag'!$H36,6)&RIGHT('Fakturadresser samt bolag'!$H36,4) -> 0007:5568124183 | K36: Box 5048, 121 05 Johanneshov | L36: Stockholm Syd | M36: Stockholm | N36: faktura@corem.se
A37: =+Sök[[#This Row],[FASTIGHET]]&" - "&Sök[[#This Row],[ADRESS]] -> Lillsätra 3 - Storsätragränd 3 | B37: =+Sök[[#This Row],[ADRESS]]&" - "&Sök[[#This Row],[FASTIGHET]] -> Storsätragränd 3 - Lillsätra 3 | C37: Lillsätra 3 | D37: 1520 | E37: 152001 | F37: Storsätragränd 3 | G37: Corem Lillsätra AB | H37: 556812-4183 | I37: 7365568124180 | J37: ="0007:" &LEFT('Fakturadresser samt bolag'!$H37,6)&RIGHT('Fakturadresser samt bolag'!$H37,4) -> 0007:5568124183 | K37: Box 5048, 121 05 Johanneshov | L37: Stockholm Syd | M37: Stockholm | N37: faktura@corem.se
A38: =+Sök[[#This Row],[FASTIGHET]]&" - "&Sök[[#This Row],[ADRESS]] -> Hällsätra 3 - Stensätravägen 5 | B38: =+Sök[[#This Row],[ADRESS]]&" - "&Sök[[#This Row],[FASTIGHET]] -> Stensätravägen 5 - Hällsätra 3 | C38: Hällsätra 3 | D38: 1522 | E38: 152201 | F38: Stensätravägen 5 | G38: Corem Hällsätra AB | H38: 556660-6058 | I38: 7365566606053 | J38: ="0007:" &LEFT('Fakturadresser samt bolag'!$H38,6)&RIGHT('Fakturadresser samt bolag'!$H38,4) -> 0007:5566606058 | K38: Box 5048, 121 05 Johanneshov | L38: Stockholm Syd | M38: Stockholm | N38: faktura@corem.se
... A280: =+Sök[[#This Row],[FASTIGHET]]&" - "&Sök[[#This Row],[ADRESS]] -> Åby projekt - Åby Arenaväg | B280: =+Sök[[#This Row],[ADRESS]]&" - "&Sök[[#This Row],[FASTIGHET]] -> Åby Arenaväg - Åby projekt | C280: Åby projekt | D280: 4068 | E280: 3076 | F280: Åby Arenaväg | G280: Corem Jesper AB | H280: 559101-2165 | I280: 7365591012164 | J280: ="0007:" &LEFT('Fakturadresser samt bolag'!$H280,6)&RIGHT('Fakturadresser samt bolag'!$H280,4) -> 0007:5591012165 | K280: Box 5048, 121 05 Johanneshov | L280: Väst | M280: Mölndal | N280: faktura@corem.se
A281: =+Sök[[#This Row],[FASTIGHET]]&" - "&Sök[[#This Row],[ADRESS]] -> Gemensamt Corem Parkering - Saknas | B281: =+Sök[[#This Row],[ADRESS]]&" - "&Sök[[#This Row],[FASTIGHET]] -> Saknas - Gemensamt Corem Parkering | C281: Gemensamt Corem Parkering | D281: 4080 | E281: 322 | F281: Saknas | G281: Corem Parkering AB | H281: 559208-5442 | I281: 7365592085440 | J281: ="0007:" &LEFT('Fakturadresser samt bolag'!$H281,6)&RIGHT('Fakturadresser samt bolag'!$H281,4) -> 0007:5592085442 | K281: Box 5048, 121 05 Johanneshov | N281: faktura@corem.se
A282: =+Sök[[#This Row],[FASTIGHET]]&" - "&Sök[[#This Row],[ADRESS]] -> Vestalen 8 - Rademachergatan 27 | B282: =+Sök[[#This Row],[ADRESS]]&" - "&Sök[[#This Row],[FASTIGHET]] -> Rademachergatan 27 - Vestalen 8 | C282: Vestalen 8 | D282: 4081 | E282: 6640 | F282: Rademachergatan 27 | G282: Vestalen Fastighets AB | H282: 559205-5528 | I282: 7365592055528 | J282: ="0007:" &LEFT('Fakturadresser samt bolag'!$H282,6)&RIGHT('Fakturadresser samt bolag'!$H282,4) -> 0007:5592055528 | K282: Box 5048, 121 05 Johanneshov | L282: Stockholm Norr | M282: Eskilstuna | N282: faktura@corem.se
A283: =+Sök[[#This Row],[FASTIGHET]]&" - "&Sök[[#This Row],[ADRESS]] -> Gotland Visby S:ta Maria 37 - Visby, Gotland | B283: =+Sök[[#This Row],[ADRESS]]&" - "&Sök[[#This Row],[FASTIGHET]] -> Visby, Gotland - Gotland Visby S:ta Maria 37 | C283: Gotland Visby S:ta Maria 37 | D283: 4082 | E283: 3400 | F283: Visby, Gotland | G283: Corem Visby AB | H283: 556891-8808 | I283: 7365568918802 | J283: ="0007:" &LEFT('Fakturadresser samt bolag'!$H283,6)&RIGHT('Fakturadresser samt bolag'!$H283,4) -> 0007:5568918808 | K283: Box 5048, 121 05 Johanneshov | L283: Stockholm Syd | M283: Visby | N283: faktura@corem.se
A284: =+Sök[[#This Row],[FASTIGHET]]&" - "&Sök[[#This Row],[ADRESS]] -> Sandhagen 8 - Rökerigatan 21 | B284: =+Sök[[#This Row],[ADRESS]]&" - "&Sök[[#This Row],[FASTIGHET]] -> Rökerigatan 21 - Sandhagen 8 | C284: Sandhagen 8 | D284: 4140 | E284: 3394 | F284: Rökerigatan 21 | G284: Corem Sandhagen 8 AB | H284: 559277-7592 | I284: 7365592777598 | J284: ="0007:" &LEFT('Fakturadresser samt bolag'!$H284,6)&RIGHT('Fakturadresser samt bolag'!$H284,4) -> 0007:5592777592 | K284: Box 5048, 121 05 Johanneshov | L284: Stockholm Syd | M284: Johanneshov | N284: faktura@corem.se
A285: =+Sök[[#This Row],[FASTIGHET]]&" - "&Sök[[#This Row],[ADRESS]] -> Stapelbädden 2 - Östra Varvsgatan 2 | B285: =+Sök[[#This Row],[ADRESS]]&" - "&Sök[[#This Row],[FASTIGHET]] -> Östra Varvsgatan 2 - Stapelbädden 2 | C285: Stapelbädden 2 | D285: 4147 | E285: 3380 | F285: Östra Varvsgatan 2 | G285: Corem Stapelbädden AB | H285: 556655-4266 | I285: 7365566554262 | J285: ="0007:" &LEFT('Fakturadresser samt bolag'!$H285,6)&RIGHT('Fakturadresser samt bolag'!$H285,4) -> 0007:5566554266 | K285: Box 5048, 121 05 Johanneshov | L285: Väst | M285: Malmö | N285: faktura@corem.se
A286: =+Sök[[#This Row],[FASTIGHET]]&" - "&Sök[[#This Row],[ADRESS]] -> Stapelbädden 4 - Östra Varvsgatan 4 | B286: =+Sök[[#This Row],[ADRESS]]&" - "&Sök[[#This Row],[FASTIGHET]] -> Östra Varvsgatan 4 - Stapelbädden 4 | C286: Stapelbädden 4 | D286: 4147 | E286: 3386 | F286: Östra Varvsgatan 4 | G286: Corem Stapelbädden AB | H286: 556655-4266 | I286: 7365566554262 | J286: ="0007:" &LEFT('Fakturadresser samt bolag'!$H286,6)&RIGHT('Fakturadresser samt bolag'!$H286,4) -> 0007:5566554266 | K286: Box 5048, 121 05 Johanneshov | L286: Väst | M286: Malmö | N286: faktura@corem.se
A287: =+Sök[[#This Row],[FASTIGHET]]&" - "&Sök[[#This Row],[ADRESS]] -> Lund Sankt Clemens 8 - Stora Södergatan 2 | B287: =+Sök[[#This Row],[ADRESS]]&" - "&Sök[[#This Row],[FASTIGHET]] -> Stora Södergatan 2 - Lund Sankt Clemens 8 | C287: Lund Sankt Clemens 8 | D287: 4148 | E287: 3390 | F287: Stora Södergatan 2 | G287: Corem Clemens AB | H287: 556794-6107 | I287: 7365567946103 | J287: ="0007:" &LEFT('Fakturadresser samt bolag'!$H287,6)&RIGHT('Fakturadresser samt bolag'!$H287,4) -> 0007:5567946107 | K287: Box 5048, 121 05 Johanneshov | L287: Väst | M287: Lund | N287: faktura@corem.se
...
